BEGIN:VCALENDAR
VERSION:2.0
PRODID:-//Sabre//Sabre VObject 4.5.8//EN
CALSCALE:GREGORIAN
BEGIN:VEVENT
UID:sabre-vobject-c452b151-7f1b-4af9-9d8b-e3b317d22102
DTSTAMP:20260422T223615Z
SUMMARY:Elephants & Squirrels
DESCRIPTION:Die Basler Naturforscher und Völkerkundler Fritz und Paul Sara
 sin waren von 1883 bis 1886 in Britisch-Ceylon\, dem heutigen Sri Lanka\, 
 unterwegs und sammelten\, was ihnen in die Finger kam: Bestandteile der Fa
 una\, Kultgegenstände der indigenen Adivasi\, aber auch menschliche Über
 reste von Angehörigen dieser Ethnie. Mehr als 130 Jahre lang lagerten die
  mit kolonialem Furor zusammengerafften Gegenstände in Archiven von Unive
 rsitäten und Museen. Im Sommer 2024 wurden schliesslich 42 menschliche Ge
 beine und Objekte dieser Sammlungen aus Basler Museen nach Sri Lanka zurü
 ckgeführt. Dass diese Rückgabe möglich war\, ist das Verdienst des Basl
 er Fotografen und Dokumentarfilmers Gregor Brändli und der sri-lankischen
  Adivasi-Künstlerin Deneth Piumakshi Veda Arachchige\, die diese Restitut
 ion begleiteten. Brändli lernt den Vater von Deneth kennen\, einen unkonv
 entionellen Geist und Künstler\, der sich selbst als Kommunist\, Atheist 
 und Naturgläubiger bezeichnet\, aber auch den Adivasi-Chief Uru Warige Wa
 nnila Aththo. Sichtlich bewegt spricht dieser davon\, dass die Gebeine\, d
 ie noch ihre Seelen in sich trügen\, nun endlich aus ihren Gefängnissen 
 befreit würden. Kaum ein hiesiger Dokumentarfilm hat koloniale Verstricku
 ngen der Schweiz je so spannend und differenziert vermittelt wie "Elephant
 s &amp\; Squirrels".\n 
LOCATION:Kinok – Cinema in der Lokremise\, Grünbergstrasse 7\, 9000 St. 
 Gallen
DTSTART;TZID=Europe/Zurich:20260423T140000
DTEND;TZID=Europe/Zurich:20260423T140000
ORGANIZER:Kinok – Cinema in der Lokremise
END:VEVENT
END:VCALENDAR
