BEGIN:VCALENDAR
VERSION:2.0
PRODID:-//Sabre//Sabre VObject 4.5.8//EN
CALSCALE:GREGORIAN
BEGIN:VEVENT
UID:sabre-vobject-fd04327a-5166-4f44-9a11-fe235c2760cd
DTSTAMP:20260421T150246Z
SUMMARY:Er flog voraus –  Karl Schwanzer | Architektenpoem
DESCRIPTION:Der österreichische Architekt Karl Schwanzer (1918–1975) war
  schon zu Lebzeiten eine Legende\; das von ihm entworfene BMW-Ensemble in 
 München gilt als Architekturikone. Als Professor an der Technischen Hochs
 chule in Wien prägte er mit seinem unkonventionellen Zugang zur Lehre ein
 e ganze Generation von Architekten. Max Grubers kurzweilig-verspieltes Dok
 umentarfilmporträt\, in dem der Wiener Burgschauspieler Nicholas Ofczarek
  in die Rolle des Architekten schlüpft\, zeigt Karl Schwanzer als wegweis
 enden Pionier und Visionär seiner Generation\, der Architektur als "mater
 ialisierte Poesie" und als Instrument verstand\, die Menschen glücklich z
 u machen. Ergänzt wird das facettenreiche Porträt mit aktuellem und hist
 orischem Bildmaterial und bisher unveröffentlichten Super-8-Filmen aus se
 inem privaten Archiv. "Er flog voraus" ist ein dichter\, vielstimmiger Arc
 hitekturfilm – und weit mehr als das: ein Film über künstlerisches Sch
 affen\, kreative Leidenschaft und bedingungslose Hingabe an ein Werk. Wojc
 iech Czaja schreibt in Der Standard: "Max Gruber (…) ist es gelungen\, S
 chwanzer in einer grossen Vielschichtigkeit zu porträtieren – als Archi
 tekten\, Manager\, Lehrer\, als leidenschaftlichen Visionär und unermüdl
 ichen Workaholic\, als einen\, der es versteht\, das Künstlerische und Pr
 ogrammatische mit dem Unternehmerischen und Pragmatischen zu verbinden."\n
  
LOCATION:Kinok – Cinema in der Lokremise\, Grünbergstrasse 7\, 9000 St. 
 Gallen
DTSTART;TZID=Europe/Zurich:20260421T200000
DTEND;TZID=Europe/Zurich:20260421T200000
ORGANIZER:Kinok – Cinema in der Lokremise
END:VEVENT
END:VCALENDAR
