BEGIN:VCALENDAR
VERSION:2.0
PRODID:-//Sabre//Sabre VObject 4.5.8//EN
CALSCALE:GREGORIAN
BEGIN:VEVENT
UID:sabre-vobject-480f89f8-0707-4b88-9024-c07716a0c3ef
DTSTAMP:20260422T085957Z
SUMMARY:Agentur am Morgen
DESCRIPTION:Jeweils simpel und kompliziert\, mit vielen Grautönen und weni
 g Monochromem\, dafür mit Platz für Unsicherheit und Ungewissheit.\nAm 1
 100. Todestag von Wiborada findet eine Begegnung zu früher Stunde statt. 
 Im Mittelpunkt stehen Gespräche über Zitronen und das Saure\, über Schm
 erz und Leid\, Sehnsucht und Verheissung\, Hoffnung\, Freiheit sowie die F
 rage nach der Wahl.\nAb 5:30 Uhr: Kaffee\, Salty Lemonade und Scones mit Z
 itronenkonfitüre.\\n6:00–7:00 Uhr: Gemeinsames Eintauchen ins Thema –
  mit Einleitung\, Impuls und Diskussion.\\nDanach: 30 Minuten Verdichten u
 nd Ausfransen.\n\\nDie Gäste: Kathrin Bolt\, Pfarrerin an der Stadtkirche
  St. Laurenzen undHapiradi Wild\, Künstlerin\nFalls ein Satz\, ein Gedank
 e\, ein Bild oder ein Wort zu diesem Morgen besteht\, kann es mitgebracht 
 oder per E-Mail eingesendet werden: agenturammorgen@gmail.com\nOrganisatio
 n und Konzeption:\\nAgentur am Morgen \\nAnna Beck-Wörner und Monika Ne
 f \\nagenturammorgen@gmail.com
LOCATION:AUTO (Projektraum Visarte Ost\, neuer Standort)\, Wassergasse 4\, 
 9000 St. Gallen
DTSTART;TZID=Europe/Zurich:20260502T053000
DTEND;TZID=Europe/Zurich:20260502T073000
ORGANIZER:Visarte Ost / AUTO
END:VEVENT
END:VCALENDAR
