BEGIN:VCALENDAR
VERSION:2.0
PRODID:-//Sabre//Sabre VObject 4.5.8//EN
CALSCALE:GREGORIAN
BEGIN:VEVENT
UID:sabre-vobject-e956b53e-8fc8-403c-9331-f748f01c23c7
DTSTAMP:20260422T091115Z
SUMMARY:Stammtisch der KlimaSeniorinnen
DESCRIPTION:Infos austauschen zum Klima\, sich beraten\, zum Beispiel zur F
 rage: Was sage ich einem Kind\, wenn es fragt\, ob es in drei Jahren noch 
 Schnee geben wird? Vielleicht beschäftigen solche Fragen auch.\nAm Stammt
 isch der KlimaSeniorinnen\, jeweils am ersten Montag im Monat\, von 15 bis
  17 Uhr am ovalen Tisch in der DenkBar\, sind Menschen zu finden\, die ebe
 nfalls Antworten suchen.
LOCATION:DenkBar\, Gallusstrasse 11\, 9000 St.Gallen
DTSTART;TZID=Europe/Zurich:20261207T150000
DTEND;TZID=Europe/Zurich:20261207T170000
ORGANIZER:DenkBar
END:VEVENT
END:VCALENDAR
