BEGIN:VCALENDAR
VERSION:2.0
PRODID:-//Sabre//Sabre VObject 4.5.8//EN
CALSCALE:GREGORIAN
BEGIN:VEVENT
UID:sabre-vobject-6025e9b0-6e9d-488b-8a1e-058d022cf9cf
DTSTAMP:20260422T090321Z
SUMMARY:Stammtisch der KlimaSeniorinnen
DESCRIPTION:Infos austauschen zum Klima\, sich beraten\, zum Beispiel zur F
 rage: Was sage ich einem Kind\, wenn es fragt\, ob es in drei Jahren noch 
 Schnee geben wird? Vielleicht beschäftigen solche Fragen auch.\nAm Stammt
 isch der KlimaSeniorinnen\, jeweils am ersten Montag im Monat\, von 15 bis
  17 Uhr am ovalen Tisch in der DenkBar\, sind Menschen zu finden\, die ebe
 nfalls Antworten suchen.
LOCATION:DenkBar\, Gallusstrasse 11\, 9000 St.Gallen
DTSTART;TZID=Europe/Zurich:20260601T150000
DTEND;TZID=Europe/Zurich:20260601T170000
ORGANIZER:DenkBar
END:VEVENT
END:VCALENDAR
