BEGIN:VCALENDAR
VERSION:2.0
PRODID:-//Sabre//Sabre VObject 4.5.8//EN
CALSCALE:GREGORIAN
BEGIN:VEVENT
UID:sabre-vobject-f302f303-4602-4cc5-87ee-e8c0b128c78f
DTSTAMP:20260423T233431Z
SUMMARY:bohemianRABsody.sg
DESCRIPTION:\\nManche runter in die Stadt.\\nAndere später rauf in die Hü
 gel.\\nWas in den Neunzigern begann.\\nHat sich verändert\, entwickelt.\\
 nZeitreise ins WG-Leben der Nullerjahre-Bohème.\\nUnkonventionell wie das
  Exil-Appenzell.\\nWeisswein und Bier\, zum Ende Pastis.\\nMusikalisch ein
 e Rhapsodie der Konserven.\\nImpact63 macht laut und improvisiert.\\nWie i
 n schummrigen Kellern und verrauchten Bars.
LOCATION:rabbar\, Landsgemeindeplatz 8\, 9043 Trogen
DTSTART;TZID=Europe/Zurich:20260424T170000
DTEND;TZID=Europe/Zurich:20260425T020000
ORGANIZER:RABBAR
END:VEVENT
END:VCALENDAR
