BEGIN:VCALENDAR
VERSION:2.0
PRODID:-//Sabre//Sabre VObject 4.5.8//EN
CALSCALE:GREGORIAN
BEGIN:VEVENT
UID:sabre-vobject-911f8ed8-4b0e-4bd9-bdc2-09e30ed98e59
DTSTAMP:20260425T004221Z
SUMMARY:Bücherzwerge
DESCRIPTION:Mit Fingerversen und Kniereitern fördern Sie gemeinsam mit uns
  die Sprachentwicklung Ihres Kindes. Im Anschluss an "Bücherzwerge" sind 
 Sie und Ihr Kind eingeladen\, die Bibliothek für sich zu entdecken\, Medi
 en auszuleihen und vielleicht neue Kontakte zu knüpfen.\nBücherzwerge is
 t Teil des europäischen Projekts Buchstart\, welches eine kostenlose Bibl
 iothekskarte für Ihr Kind bis zum 6. Geburtstag und ein Geschenkpaket mit
  ersten Büchern beinhaltet. Falls Sie dieses noch nicht erhalten haben\, 
 sprechen Sie uns an.\n\nFür Kleinkinder bis 3 Jahre mit Begleitperson.
LOCATION:Bibliothek Seen\, Rössligasse 11\, 8405 Winterthur
DTSTART;TZID=Europe/Zurich:20260425T100000
DTEND;TZID=Europe/Zurich:20260425T103000
ORGANIZER:
END:VEVENT
END:VCALENDAR
