BEGIN:VCALENDAR
VERSION:2.0
PRODID:-//Sabre//Sabre VObject 4.5.8//EN
CALSCALE:GREGORIAN
BEGIN:VEVENT
UID:sabre-vobject-a3fc5a48-b83a-4584-845e-908ecd1ef4ff
DTSTAMP:20260423T051934Z
SUMMARY:Artist Talk: Die Lumpensammlerin
DESCRIPTION:Wenn aus angesammelten Textilien Kunst wird: Die Künstlerin An
 drea Vogel spricht über ihr Werk "Die Lumpensammlerin"\, welches derzeit 
 im Textilmuseum ausgestellt ist.\nWas geschieht mit den Textilien\, die wi
 r ausmisten? Sie türmen sich auf\, sie sammeln sich an\, sie liegen herum
  und werden verbrannt\, entsorgt oder in wenigen Fällen recycelt. Aus ach
 tlos in den Strassen von Paris zurückgelassenen Kleidungsstücken erschuf
  Andrea Vogel neue Kunstwerke. Im Gespräch erzählt sie von ihrem künstl
 erischen Prozess\, dem historischen Kontext der Lumpensammlerin und den gl
 obalen Vernetzungen. Denn viele der entsorgten Textilien reisen weiter und
  landen auf Mülldeponien im globalen Süden. Auf ihrer Spurensuche folgte
  die Künstlerin den Stoffströmen bis nach Accra\, Ghana\, und spricht ü
 ber gigantische textile Anhäufungen\, Recyclingprozesse und die damit ver
 bundene Verantwortung. \nDie Veranstaltung ist kostenlos\, fällig wird l
 ediglich der Museumseintritt. Das Museum hat an diesem Tag durchgehend bis
  18 Uhr geöffnet. Nach dem Museumsgespräch laden wir zu Apéro und Austa
 usch ein. Wir bitten um Reservierung. 
LOCATION:Textilmuseum\, Vadianstrasse 2\, 9000 St.Gallen
DTSTART;TZID=Europe/Zurich:20260423T180000
DTEND;TZID=Europe/Zurich:20260423T190000
ORGANIZER:Textilmuseum
END:VEVENT
END:VCALENDAR
