BEGIN:VCALENDAR
VERSION:2.0
PRODID:-//Sabre//Sabre VObject 4.5.8//EN
CALSCALE:GREGORIAN
BEGIN:VEVENT
UID:sabre-vobject-9fc3f0e9-7acd-4c54-be22-7e68f8f1d28e
DTSTAMP:20260419T235605Z
SUMMARY:The Beauty of the Earth
DESCRIPTION:Lyrische und herzerwärmende Werke für Chor und Orchester von 
 John Rutter\, Ralph Vaughan Williams und Richard Strauss.\nZusammen mit de
 m Sinfonischen Orchester Arbon wird die Schönheit der Natur und des Leben
 s besungen und Staunen\, Dankbarkeit und Freude\, aber auch Fantasie und H
 umor in Klang verwandelt.
LOCATION:Evang. Kirche Altstätten\, Heidenerstrasse 7\, 9450 Altstätten
DTSTART;TZID=Europe/Zurich:20260606T190000
DTEND;TZID=Europe/Zurich:20260606T200000
ORGANIZER:Konzertchor Ostschweiz
END:VEVENT
END:VCALENDAR
