BEGIN:VCALENDAR
VERSION:2.0
PRODID:-//Sabre//Sabre VObject 4.5.8//EN
CALSCALE:GREGORIAN
BEGIN:VEVENT
UID:sabre-vobject-0df93660-d907-40e8-aab6-62caf97d7ad5
DTSTAMP:20260424T154005Z
SUMMARY:Belluna-Abend im Solihaus
DESCRIPTION:Die Idee zum Buch entstand im Café International in Muttenz\, 
 einem Treffpunkt für Frauen aus verschiedenen Ländern. Dort wurde der Wu
 nsch geäussert\, persönliche Geschichten festzuhalten und sichtbar zu ma
 chen. \nMit dem Erzählen ihrer persönlichen Geschichte bringen die port
 raitierten Frauen auch Erfahrungen mit der Migrationspolitik im Ankunftsla
 nd Schweiz zur Sprache.\nAm Belluna-Abend im Solihaus lesen Heike Wach und
  Nilgün Özdal aus dem Buch. Im Anschluss an die Lesung gibt es Gelegenhe
 it für Fragen und Austausch sowie einen Apéro. \n 
LOCATION:Solihaus\, Fidesstrasse 1\, 9000 St. Gallen
DTSTART;TZID=Europe/Zurich:20260508T190000
DTEND;TZID=Europe/Zurich:20260508T210000
ORGANIZER:Solidaritätshaus St. Gallen
END:VEVENT
END:VCALENDAR
