BEGIN:VCALENDAR
VERSION:2.0
PRODID:-//Sabre//Sabre VObject 4.5.8//EN
CALSCALE:GREGORIAN
BEGIN:VEVENT
UID:sabre-vobject-c4f75070-3a3f-4b07-8e3f-8dc3304d93ab
DTSTAMP:20260424T155702Z
SUMMARY:Händl Klaus - Ein Kessel Buntes und viele dunkel lockende Welten
DESCRIPTION:In der Reihe LooT (L-iteratur in Verbindung mit T-heater) werde
 n Personen vorgestellt\, die sowohl für die Bühne als auch für Leserinn
 en und Leser schreiben. Auffallend dabei immer wieder\, wie kraftvoll und 
 kühn die Texte dieser Multi-Talente sind! Der Gast unserer 13. Ausgabe de
 r Reihe bespielt darüber hinaus noch ein ganz anderes Genre: Er schreibt 
 Opernlibretti – und zählt zu den gegenwärtig besten und meistgespielte
 n seiner Zunft.\nEine Veranstaltung des Literaturhaus St. Gallen in Kooper
 ation mit dem Theater St. Gallen.  
LOCATION:Lokremise\, Grünbergstrasse 7\, 9000 St. Gallen
DTSTART;TZID=Europe/Zurich:20260507T200000
DTEND;TZID=Europe/Zurich:20260507T213000
ORGANIZER:Literaturhaus St.Gallen
END:VEVENT
END:VCALENDAR
