BEGIN:VCALENDAR
VERSION:2.0
PRODID:-//Sabre//Sabre VObject 4.5.8//EN
CALSCALE:GREGORIAN
BEGIN:VEVENT
UID:sabre-vobject-de02c227-962f-405a-ba45-388f2c3de5d6
DTSTAMP:20260422T224946Z
SUMMARY:Feria de Abril St. Gallen 2026
DESCRIPTION:- spanische Küche &amp\; Paella\\n- Sevillanas &amp\; Flamenco
 \\n- Flamenco-Shows &amp\; Live-Musik\\n- echte Feria-Atmosphäre
LOCATION:Hogar Español\, Hintere Poststrasse 18\, 9000 St. Gallen
DTSTART;TZID=Europe/Zurich:20260424T180000
DTEND;TZID=Europe/Zurich:20260425T000000
ORGANIZER:Hogar Español St. Gallen
END:VEVENT
END:VCALENDAR
