BEGIN:VCALENDAR
VERSION:2.0
PRODID:-//Sabre//Sabre VObject 4.5.8//EN
CALSCALE:GREGORIAN
BEGIN:VEVENT
UID:sabre-vobject-e9d3e106-e68e-4e77-82cc-735b030b62b6
DTSTAMP:20260422T224812Z
SUMMARY:Feria de Abril St. Gallen 2026
DESCRIPTION:- spanische Küche &amp\; Paella\\n- Sevillanas &amp\; Flamenco
 \\n- Flamenco-Shows &amp\; Live-Musik\\n- echte Feria-Atmosphäre
LOCATION:Hogar Español\, Hintere Poststrasse 18\, 9000 St. Gallen
DTSTART;TZID=Europe/Zurich:20260423T180000
DTEND;TZID=Europe/Zurich:20260423T230000
ORGANIZER:Hogar Español St. Gallen
END:VEVENT
END:VCALENDAR
