BEGIN:VCALENDAR
VERSION:2.0
PRODID:-//Sabre//Sabre VObject 4.5.8//EN
CALSCALE:GREGORIAN
BEGIN:VEVENT
UID:sabre-vobject-4b9e8b49-847f-4776-bfcc-299fc27cd41a
DTSTAMP:20260420T060854Z
SUMMARY:kleruss (Züri)
DESCRIPTION:Monomontag\, die Konzertreihe im Portier\\nIndie-Electro-Experi
 mentalkleruss verzaubert mit ihrer einfühlsamen Stimme und ihrem facetten
 reichen Sound. Träumerischer Indie-Pop\, der offen bleibt für vielschic
 htige und experimentelle Klangtexturen und der durch kleruss' Interesse an
  elektronischer Musikproduktion geprägt ist.  Das Ergebnis: ein abwechsl
 ungsreicher Mix aus tanzbaren Momenten und melancholischen Klangwelten. Mi
 t ihrem letzten Album "time will tell" schafft es kleruss\, ihr Publikum d
 urch emotionale Tiefe und eingängige Melodien gleichermassen zu berühren
 .
LOCATION:Portier\, Lagerplatz 3\, 8400 Winterthur
DTSTART;TZID=Europe/Zurich:20260420T193000
DTEND;TZID=Europe/Zurich:20260420T193000
ORGANIZER:
END:VEVENT
END:VCALENDAR
