BEGIN:VCALENDAR
VERSION:2.0
PRODID:-//Sabre//Sabre VObject 4.5.8//EN
CALSCALE:GREGORIAN
BEGIN:VEVENT
UID:sabre-vobject-85b52434-e729-433d-8864-88250ea92b4b
DTSTAMP:20260420T151342Z
SUMMARY:AST // Fifty Shades of Love
DESCRIPTION:Weitere Informationen folgen
LOCATION:Diogenes Theater Altstätten\, Rabengasse 3\, 9450 Altstätten
DTSTART;TZID=Europe/Zurich:20260502T200000
DTEND;TZID=Europe/Zurich:20260502T200000
ORGANIZER:Diogenes Theater
END:VEVENT
END:VCALENDAR
