BEGIN:VCALENDAR
VERSION:2.0
PRODID:-//Sabre//Sabre VObject 4.5.8//EN
CALSCALE:GREGORIAN
BEGIN:VEVENT
UID:sabre-vobject-4f65c279-b705-4013-aef5-fa64e1aaf971
DTSTAMP:20260420T151300Z
SUMMARY:AST // Fifty Shades of Love
DESCRIPTION:Weitere Informationen folgen
LOCATION:Diogenes Theater Altstätten\, Rabengasse 3\, 9450 Altstätten
DTSTART;TZID=Europe/Zurich:20260501T200000
DTEND;TZID=Europe/Zurich:20260501T200000
ORGANIZER:Diogenes Theater
END:VEVENT
END:VCALENDAR
