BEGIN:VCALENDAR
VERSION:2.0
PRODID:-//Sabre//Sabre VObject 4.5.8//EN
CALSCALE:GREGORIAN
BEGIN:VEVENT
UID:sabre-vobject-fd90135a-a71c-43cd-a995-f3c79e8b421a
DTSTAMP:20260420T151010Z
SUMMARY:AST // Fifty Shades of Love
DESCRIPTION:Weitere Informationen folgen
LOCATION:Diogenes Theater Altstätten\, Rabengasse 3\, 9450 Altstätten
DTSTART;TZID=Europe/Zurich:20260429T200000
DTEND;TZID=Europe/Zurich:20260429T200000
ORGANIZER:Diogenes Theater
END:VEVENT
END:VCALENDAR
