BEGIN:VCALENDAR
VERSION:2.0
PRODID:-//Sabre//Sabre VObject 4.5.8//EN
CALSCALE:GREGORIAN
BEGIN:VEVENT
UID:sabre-vobject-a3433c85-f46b-4bc8-834b-23a511746736
DTSTAMP:20260420T151332Z
SUMMARY:AST // Fifty Shades of Love
DESCRIPTION:Weitere Informationen folgen
LOCATION:Diogenes Theater Altstätten\, Rabengasse 3\, 9450 Altstätten
DTSTART;TZID=Europe/Zurich:20260425T200000
DTEND;TZID=Europe/Zurich:20260425T200000
ORGANIZER:Diogenes Theater
END:VEVENT
END:VCALENDAR
