BEGIN:VCALENDAR
VERSION:2.0
PRODID:-//Sabre//Sabre VObject 4.5.8//EN
CALSCALE:GREGORIAN
BEGIN:VEVENT
UID:sabre-vobject-62f21988-aaae-4620-bfb4-52f36a98ca07
DTSTAMP:20260420T150908Z
SUMMARY:AST // Fifty Shades of Love
DESCRIPTION:Weitere Informationen folgen
LOCATION:Diogenes Theater Altstätten\, Rabengasse 3\, 9450 Altstätten
DTSTART;TZID=Europe/Zurich:20260424T200000
DTEND;TZID=Europe/Zurich:20260424T200000
ORGANIZER:Diogenes Theater
END:VEVENT
END:VCALENDAR
