BEGIN:VCALENDAR
VERSION:2.0
PRODID:-//Sabre//Sabre VObject 4.5.8//EN
CALSCALE:GREGORIAN
BEGIN:VEVENT
UID:sabre-vobject-3c0847aa-e7e3-4f43-8ad2-15873c731595
DTSTAMP:20260423T233729Z
SUMMARY:Holzschnittkurs
DESCRIPTION:Dabei werden die Teilnehmenden alle Schritte\, von der Motivsuc
 he und der Konzeption eines Holzschnitts über die Übertragung auf Linden
 sperrholzplatten bis zum eigentlichen Holzschneiden und dem Drucken\, kenn
 en lernen.\nDie Teilnehmenden erhalten kostenlos online ein 20-seitiges Sk
 riptum zur Einführung in den Holzschnitt sowie eine Materialliste zum sel
 bständigen Weiterarbeiten. Kursleitung ist Gabi Jörger.\\n\\nQuelle:\\nt
 hurgaukultur.ch - das Kulturportal für den Thurgau\, mit Terminen\, Theme
 n &amp\; Menschen\, die zu reden geben.
LOCATION:Typorama\, Fabrikstrasse 30a\, 9220 Bischofszell
DTSTART;TZID=Europe/Zurich:20260424T140000
DTEND;TZID=Europe/Zurich:20260424T200000
ORGANIZER:Typorama – Museum für Satz und Druck
END:VEVENT
END:VCALENDAR
