BEGIN:VCALENDAR
VERSION:2.0
PRODID:-//Sabre//Sabre VObject 4.5.8//EN
CALSCALE:GREGORIAN
BEGIN:VEVENT
UID:sabre-vobject-017f6d42-d8ec-4495-abdc-f3fdaf370cb6
DTSTAMP:20260422T050156Z
SUMMARY:Bildvortrag: «Was der Kaiser noch sah»
DESCRIPTION:Im Rahmen seines Vortrags bietet Dominik Gügel\, Direktor des 
 Napoleonmuseums Arenenberg\, spannende Einblicke zur aktuellen Sonderausst
 ellung «Was der Kaiser noch sah».\nDer Vortrag folgt den Spuren des tech
 nikvernarrten Monarchen Napoleon III. und zeigt anhand der damals modern
 sten Bildtechnik – der Fotografie – eindrucksvolle Ansichten des Thurg
 aus\, von Konstanz und des Bodensees. So entsteht ein faszinierender Blick
  auf die Landschaft\, wie sie der letzte Kaiser Frankreichs einst selbst w
 ahrgenommen hat.\\n\\nQuelle:\\nthurgaukultur.ch - das Kulturportal für d
 en Thurgau\, mit Terminen\, Themen &amp\; Menschen\, die zu reden geben.
LOCATION:Napoleonmuseum Arenenberg\, Arenenberg 1\, 8268 Salenstein
DTSTART;TZID=Europe/Zurich:20260611T173000
DTEND;TZID=Europe/Zurich:20260611T190000
ORGANIZER:Napoleonmuseum Arenenberg
END:VEVENT
END:VCALENDAR
