BEGIN:VCALENDAR
VERSION:2.0
PRODID:-//Sabre//Sabre VObject 4.5.8//EN
CALSCALE:GREGORIAN
BEGIN:VEVENT
UID:sabre-vobject-8656acb3-5f67-41fd-9881-3941c84ab2d0
DTSTAMP:20260421T011752Z
SUMMARY:Amigos unidos tour
DESCRIPTION:Zona 84 wurden 1993 in Rosario (Santa Fe\, Argentinien) gegrün
 det und zählen zu den prägenden Punk-Rock-Bands der Stadt. Musikalisch v
 erwurzelt im klassischen Punk à la The Clash\, Ramones oder Cock Sparrer\
 , gelten sie in der lokalen Szene als feste Referenz. Über die Jahre spie
 lten sie mit zentralen Namen des argentinischen Punk ebenso wie mit intern
 ationalen Legenden wie Buzzcocks\, Social Distortion\, NY Dolls\, Die Tote
 n Hosen\, Pennywise oder CJ Ramone. Zona 84 stehen für kompromisslosen DI
 Y-Punk: seit fast 30 Jahren aktiv\, sozialkritisch\, unabhängig und inter
 national vernetzt. Mit ihrem eigenen Label Despabila Records (seit 2009) u
 nd vollständigem Selbstmanagement verkörpern sie konsequent die Do-It-Yo
 urself- und Control-Total-Philosophie – eine feste Grösse der argentini
 schen Punk-Szene.\\nTüchel ist eine St. Galler Punk’n’Roll-Band\, die
  1993 gegründet wurde. Sie gelten als „trendfrei\, machen ihr Ding“ 
 – seit über 30 Jahren komplett Do-It-Yourself und stets unabhängig. Na
 ch Touren durch Europa tourte man 2025 in Argentinien und Uruguay. Tüchel
  spielten diverse Shows mit Zona 84 in Europa und Argentinien. Tüchel s
 ind mehr als nur eine St. Galler Punkband: Sie sind ein lebendiger Teil de
 r nationalen Musik- und Subkultur –authentisch\, ausdauernd und immer no
 ch voller Energie. Wer Punk-Nächte mit Tüchel erlebt hat\, kennt sie –
  und wer’s noch nicht erlebt hat\, sollte mal live vorbeischauen.\\n\\n
LOCATION:Toms Beer Box\, Untere Gasse 11\, 7000 Chur
DTSTART;TZID=Europe/Zurich:20260421T200000
DTEND;TZID=Europe/Zurich:20260421T200000
ORGANIZER:Toms Beer Box
END:VEVENT
END:VCALENDAR
