BEGIN:VCALENDAR
VERSION:2.0
PRODID:-//Sabre//Sabre VObject 4.5.8//EN
CALSCALE:GREGORIAN
BEGIN:VEVENT
UID:sabre-vobject-cfee458d-e388-49e8-a24c-fe656aa7ccec
DTSTAMP:20260424T011516Z
SUMMARY:Öffentliche Führung: Urs Frei
DESCRIPTION:
LOCATION:Kunstmuseum St.Gallen\, Museumstrasse 32\, 9000 St.Gallen
DTSTART;TZID=Europe/Zurich:20260906T130000
DTEND;TZID=Europe/Zurich:20260906T140000
ORGANIZER:Kunstmuseum St.Gallen
END:VEVENT
END:VCALENDAR
