BEGIN:VCALENDAR
VERSION:2.0
PRODID:-//Sabre//Sabre VObject 4.5.8//EN
CALSCALE:GREGORIAN
BEGIN:VEVENT
UID:sabre-vobject-521ac6fa-83fe-4461-8a60-7221239e41b9
DTSTAMP:20260424T011607Z
SUMMARY:Öffentliche Führung: Urs Frei
DESCRIPTION:
LOCATION:Kunstmuseum St.Gallen\, Museumstrasse 32\, 9000 St.Gallen
DTSTART;TZID=Europe/Zurich:20260809T130000
DTEND;TZID=Europe/Zurich:20260809T140000
ORGANIZER:Kunstmuseum St.Gallen
END:VEVENT
END:VCALENDAR
