BEGIN:VCALENDAR
VERSION:2.0
PRODID:-//Sabre//Sabre VObject 4.5.8//EN
CALSCALE:GREGORIAN
BEGIN:VEVENT
UID:sabre-vobject-b0b5d43e-765b-42f4-a534-ba74a9a12841
DTSTAMP:20260424T011633Z
SUMMARY:Kurator:innenführung: Urs Frei
DESCRIPTION:
LOCATION:Kunstmuseum St.Gallen\, Museumstrasse 32\, 9000 St.Gallen
DTSTART;TZID=Europe/Zurich:20260611T190000
DTEND;TZID=Europe/Zurich:20260611T190000
ORGANIZER:Kunstmuseum St.Gallen
END:VEVENT
END:VCALENDAR
