BEGIN:VCALENDAR
VERSION:2.0
PRODID:-//Sabre//Sabre VObject 4.5.8//EN
CALSCALE:GREGORIAN
BEGIN:VEVENT
UID:sabre-vobject-9f2aa628-7c7f-480e-a403-6e0c49fd4951
DTSTAMP:20260424T010846Z
SUMMARY:Finissage: Urs Frei
DESCRIPTION:
LOCATION:Kunstmuseum St.Gallen\, Museumsstrasse 32\, 9000 St.Gallen
DTSTART;TZID=Europe/Zurich:20260913T140000
DTEND;TZID=Europe/Zurich:20260913T170000
ORGANIZER:Kunstmuseum St.Gallen
END:VEVENT
END:VCALENDAR
