BEGIN:VCALENDAR
VERSION:2.0
PRODID:-//Sabre//Sabre VObject 4.5.8//EN
CALSCALE:GREGORIAN
BEGIN:VEVENT
UID:sabre-vobject-3e5ed208-1467-4b57-96ae-dcdfe45b7307
DTSTAMP:20260424T011607Z
SUMMARY:Werkstatt Wissen: Urs Frei
DESCRIPTION:Ein interaktives Format\, das den Zugang zu Kunst über praktis
 ches Tun eröffnet. Im Fokus stehen Materialien\, künstlerische Prozesse 
 und die Arbeit mit den Händen. Die Teilnehmenden erkunden durch eigenes A
 usprobieren die Handhabungen und Herstellungsschritte eines Werkes und gew
 innen so ein vertieftes Verständnis für künstlerische Tätigkeit.
LOCATION:Kunstmuseum St.Gallen\, Museumstrasse 32\, 9000 St.Gallen
DTSTART;TZID=Europe/Zurich:20260827T190000
DTEND;TZID=Europe/Zurich:20260827T203000
ORGANIZER:Kunstmuseum St.Gallen
END:VEVENT
END:VCALENDAR
