BEGIN:VCALENDAR
VERSION:2.0
PRODID:-//Sabre//Sabre VObject 4.5.8//EN
CALSCALE:GREGORIAN
BEGIN:VEVENT
UID:sabre-vobject-df2eddca-809a-4ec6-aed0-80d3d233bc1b
DTSTAMP:20260424T010713Z
SUMMARY:Kunst & Zmittag
DESCRIPTION:Kurze Führung durch die Ausstellung „Urs Frei: A–Z“ mit 
 anschliessendem Mittagessen zubereitet im Museumscafé von Ueli Vogt\, Kur
 ator\, Architekt und leidenschaftlicher Koch.\nTreffpunkt um 12.30 Uhr im 
 Foyer des Kunstmuseums St.Gallen
LOCATION:Kunstmuseum St.Gallen\, Museumsstrasse 32\, 9000 St.Gallen
DTSTART;TZID=Europe/Zurich:20260901T123000
DTEND;TZID=Europe/Zurich:20260901T133000
ORGANIZER:Kunstmuseum St.Gallen
END:VEVENT
END:VCALENDAR
