BEGIN:VCALENDAR
VERSION:2.0
PRODID:-//Sabre//Sabre VObject 4.5.8//EN
CALSCALE:GREGORIAN
BEGIN:VEVENT
UID:sabre-vobject-96e6ecec-111c-4f94-a7cf-f8fb6dcefe9c
DTSTAMP:20260422T224035Z
SUMMARY:Pubquiz@fabriggli
DESCRIPTION:Du bist ein kleiner Klugscheisser und gehst allen mit deinem Al
 lgemeinwissen auf die Nerven? Dann geben wir dir jetzt die Chance\, endlic
 h mal zu glänzen. Komm alleine und wir finden gemeinsam ein Team für den
  Abend oder trommle deine Freunde zusammen und meldet euch für das Pubqui
 z im fabriggli an.\nDie Quizfüxe (Vanessa Ledergerber\, Dario Cantieni un
 d andere) führen euch in 2er- bis 5er-Gruppen durch einen Abend voller R
 ätsel und bringen auch die Besserwisser ins Schwitzen. Ob Geschichte\, Sp
 ort\, Klatsch und Tratsch oder Musik … Wir lassen kein Feld unberührt!
LOCATION:fabriggli\, werdenberger kleintheater\, Schulhausstrasse 12a\, 947
 0 Buchs SG
DTSTART;TZID=Europe/Zurich:20260422T200000
DTEND;TZID=Europe/Zurich:20260422T220000
ORGANIZER:fabriggli\, werdenberger kleintheater
END:VEVENT
END:VCALENDAR
