BEGIN:VCALENDAR
VERSION:2.0
PRODID:-//Sabre//Sabre VObject 4.5.8//EN
CALSCALE:GREGORIAN
BEGIN:VEVENT
UID:sabre-vobject-42de8601-b311-4b40-9aa9-dfde06f65b72
DTSTAMP:20260420T020357Z
SUMMARY:Kinderworkshop Mini and Me – Miniskulpturen nach Lun Tuchnowski
DESCRIPTION:Verbringt gemeinsam eine inspirierende Zeit in unserem Museum u
 nd Atelier! Jedes Kind darf eine erwachsene Begleitperson mitbringen\, mit
  der es kreativ werden möchte. Nach einem kurzen Besuch der Ausstellung v
 on Lun Tuchnowski geht es ins Atelier: Dort könnt ihr gemeinsam gestalten
 . Als kreative Starthilfe stellen wir euch eine Skulptur vor\, die ihr mit
  vielen verschiedenen Materialien nachbilden könnt. Ihr dürft dabei selb
 st entscheiden\, wie gross eure Miniskulptur werden darf.\\n\n\\n\nDas Mat
 erial wird zur Verfügung gestellt. Geeignet für Kinder von 4 bis ca. 7 J
 ahren in Begleitung eines Erwachsenen. Pro Kind soll eine erwachsene Perso
 n teilnehmen.
LOCATION:Forum Würth Rorschach\, Churerstrasse 10\, 9400 Rorschach
DTSTART;TZID=Europe/Zurich:20260613T140000
DTEND;TZID=Europe/Zurich:20260613T150000
ORGANIZER:Forum Würth Rorschach
END:VEVENT
END:VCALENDAR
