BEGIN:VCALENDAR
VERSION:2.0
PRODID:-//Sabre//Sabre VObject 4.5.8//EN
CALSCALE:GREGORIAN
BEGIN:VEVENT
UID:sabre-vobject-008c8c2d-d772-4b8e-b836-5c3faa4b7a1f
DTSTAMP:20260420T021049Z
SUMMARY:Lun Tuchnowski – Ein Spiel der Gegensätze
DESCRIPTION:Lun Tuchnowski (1946–2018) war ein Bildhauer\, der Gegensätz
 e nicht als Widerspruch verstand\, sondern als Quelle von Inspiration und 
 Kreativität. Heute vor 80 Jahren geboren\, bereicherte dieser Künstler d
 ie Sammlung Würth nicht nur mit seinen eigenen Arbeiten\, sondern prägte
  sie auch über viele Jahre als Berater und Ausstellungsarchitekt. Die The
 menführung beleuchtet die zentralen Facetten seines Schaffens: das Zusamm
 enspiel von geometrischer Klarheit und organisch geschwungenen Formen\, di
 e Leichtigkeit und den oft humorvollen Charakter seiner Plastiken. Eindruc
 ksvoll bewahrt sein Werk dabei eine fragile Balance zwischen Dynamik und R
 uhe\, Kraft und Eleganz.\\n\n\\n\nNach dem Ausstellungsrundgang laden wir 
 zu einem kleinen Apéro im KunstCafé ein.
LOCATION:Forum Würth Rorschach\, Churerstrasse 10\, 9400 Rorschach
DTSTART;TZID=Europe/Zurich:20260530T160000
DTEND;TZID=Europe/Zurich:20260530T164500
ORGANIZER:Forum Würth Rorschach
END:VEVENT
END:VCALENDAR
