BEGIN:VCALENDAR
VERSION:2.0
PRODID:-//Sabre//Sabre VObject 4.5.8//EN
CALSCALE:GREGORIAN
BEGIN:VEVENT
UID:sabre-vobject-b5f0d05a-27a9-400a-90cb-6aa621929a58
DTSTAMP:20260420T021350Z
SUMMARY:Vernissage: «Lun Tuchnowski & Friends»
DESCRIPTION:Lun Tuchnowski (1946-2018) zählt zu den Künstlern\, die zwei 
 wesentliche bildhauerische Auffassungen des 20. Jahrhunderts miteinander v
 erbanden: geometrische und organisch-figurative Formensprache. Mit spieler
 ischer\, oft humorvoller Leichtigkeit liess er diese Gegensätze aufeinand
 ertreffen und «geradezu lustvoll das scheinbar Unvereinbare miteinander k
 onkurrieren und dialogisieren» (Lothar Romain). Geschwungene Formen\, die
  wie Fühler oder Tentakel in den Raum greifen\, durchbrechen klare geomet
 rische Konturen und betonen den Hang zum Leichten und Schwerelosen\, der f
 ür Tuchnowskis Werk so charakteristisch ist. Der Bildhauer\, der lange in
  München lebte und dort sein Atelier führte\, arbeitete mit einer ausser
 gewöhnlich breiten Palette an Materialien – von Aluminium\, Zink\, Stah
 l und Bronze bis hin zu Holz\, Beton\, Kunststoff und Gips.\\n\n\\n\nAnlä
 sslich seines 80. Geburtstags würdigt das Forum Würth Rorschach diesen K
 ünstler\, der wie kaum ein anderer über viele Jahre eng mit der Sammlung
  Würth verbunden war. Die Ausstellung «Lun Tuchnowski & Friends» widmet
  sich den zentralen Schaffensphasen des Künstlers und stellt seinen Werke
 n ausgewählte Wahlverwandtschaften und Wegbegleiter an die Seite.
LOCATION:Forum Würth Rorschach\, Churerstrasse 10\, 9400 Rorschach
DTSTART;TZID=Europe/Zurich:20260506T180000
DTEND;TZID=Europe/Zurich:20260506T180000
ORGANIZER:Forum Würth Rorschach
END:VEVENT
END:VCALENDAR
