BEGIN:VCALENDAR
VERSION:2.0
PRODID:-//Sabre//Sabre VObject 4.5.8//EN
CALSCALE:GREGORIAN
BEGIN:VEVENT
UID:sabre-vobject-44ca325a-baeb-4bbf-80fe-aa73d79a1f4e
DTSTAMP:20260422T085710Z
SUMMARY:NOMOL | Gewinne beim Pick Shopping Day 2026
DESCRIPTION:Wir feiern Pick! Shopping Days - und du kannst dabei gleich dop
 pelt profitieren. Ab dem 8. April 2026 erhältst du bei jedem Einkauf im N
 OMOL ein Los für unsere Tombola. Mit etwas Glück sicherst du dir einen v
 on drei tollen Preisen. Die glücklichen Gewinner:innen werden am letzten 
 Tag der Pick! Shopping Days\, dem 2. Mai\, gezogen und anschliessend auf u
 nserem Instagram-Kanal nomolsecondhand bekannt gegeben. Vorbeikommen\, nac
 hhaltig shoppen und gewinnen.
LOCATION:NOMOL First & Secondhand Boutique\, Gartenstrasse 5\, 9000 St. Gal
 len
DTSTART;TZID=Europe/Zurich:20260502T110000
DTEND;TZID=Europe/Zurich:20260502T160000
ORGANIZER:NOMOL First & Secondhand Boutique
END:VEVENT
END:VCALENDAR
