BEGIN:VCALENDAR
VERSION:2.0
PRODID:-//Sabre//Sabre VObject 4.5.8//EN
CALSCALE:GREGORIAN
BEGIN:VEVENT
UID:sabre-vobject-ca16fa83-45a6-483b-81a1-13408adec53f
DTSTAMP:20260422T163317Z
SUMMARY:Tout est lumière | Führung
DESCRIPTION:Öffentliche Führung durch die Ausstellung Tout est lumière
  mit Sonja Remensberger.Anmeldung erforderlich						Zur Ausstellungsseite
 					
LOCATION:Kunst Museum | Beim Stadthaus\, Museumsstrasse 52\, 8402 Winterthu
 r
DTSTART;TZID=Europe/Zurich:20260422T183000
DTEND;TZID=Europe/Zurich:20260422T193000
ORGANIZER:
END:VEVENT
END:VCALENDAR
