BEGIN:VCALENDAR
VERSION:2.0
PRODID:-//Sabre//Sabre VObject 4.5.8//EN
CALSCALE:GREGORIAN
BEGIN:VEVENT
UID:sabre-vobject-a90130f3-4a14-4995-a8c9-bc7d7698ec14
DTSTAMP:20260421T081014Z
SUMMARY:Circus Knie 2026
DESCRIPTION:
LOCATION:Spelteriniplatz\, Spelteriniplatz\, 9000 St. Gallen
DTSTART;TZID=Europe/Zurich:20260503T180000
DTEND;TZID=Europe/Zurich:20260503T180000
ORGANIZER:Ticketcorner
END:VEVENT
END:VCALENDAR
