BEGIN:VCALENDAR
VERSION:2.0
PRODID:-//Sabre//Sabre VObject 4.5.8//EN
CALSCALE:GREGORIAN
BEGIN:VEVENT
UID:sabre-vobject-59281a4a-dbaf-4ebe-9258-b646b03494e2
DTSTAMP:20260421T080949Z
SUMMARY:Circus Knie 2026
DESCRIPTION:
LOCATION:Spelteriniplatz\, Spelteriniplatz\, 9000 St. Gallen
DTSTART;TZID=Europe/Zurich:20260503T143000
DTEND;TZID=Europe/Zurich:20260503T143000
ORGANIZER:Ticketcorner
END:VEVENT
END:VCALENDAR
