BEGIN:VCALENDAR
VERSION:2.0
PRODID:-//Sabre//Sabre VObject 4.5.8//EN
CALSCALE:GREGORIAN
BEGIN:VEVENT
UID:sabre-vobject-7c1c3e1d-97a7-4968-bf1a-cd8cbd1ce869
DTSTAMP:20260421T080903Z
SUMMARY:Circus Knie 2026
DESCRIPTION:
LOCATION:Spelteriniplatz\, Spelteriniplatz\, 9000 St. Gallen
DTSTART;TZID=Europe/Zurich:20260502T200000
DTEND;TZID=Europe/Zurich:20260502T200000
ORGANIZER:Ticketcorner
END:VEVENT
END:VCALENDAR
