BEGIN:VCALENDAR
VERSION:2.0
PRODID:-//Sabre//Sabre VObject 4.5.8//EN
CALSCALE:GREGORIAN
BEGIN:VEVENT
UID:sabre-vobject-be329da4-6b70-4b28-9286-67e4626b894c
DTSTAMP:20260421T080815Z
SUMMARY:Circus Knie 2026
DESCRIPTION:
LOCATION:Spelteriniplatz\, Spelteriniplatz\, 9000 St. Gallen
DTSTART;TZID=Europe/Zurich:20260502T170000
DTEND;TZID=Europe/Zurich:20260502T170000
ORGANIZER:Ticketcorner
END:VEVENT
END:VCALENDAR
