BEGIN:VCALENDAR
VERSION:2.0
PRODID:-//Sabre//Sabre VObject 4.5.8//EN
CALSCALE:GREGORIAN
BEGIN:VEVENT
UID:sabre-vobject-4c4e5067-32fc-4bf0-a9e0-5f2982fed544
DTSTAMP:20260421T080756Z
SUMMARY:Circus Knie 2026
DESCRIPTION:
LOCATION:Spelteriniplatz\, Spelteriniplatz\, 9000 St. Gallen
DTSTART;TZID=Europe/Zurich:20260501T193000
DTEND;TZID=Europe/Zurich:20260501T193000
ORGANIZER:Ticketcorner
END:VEVENT
END:VCALENDAR
