BEGIN:VCALENDAR
VERSION:2.0
PRODID:-//Sabre//Sabre VObject 4.5.8//EN
CALSCALE:GREGORIAN
BEGIN:VEVENT
UID:sabre-vobject-e0653d2c-9f5e-47bc-9fd9-9c6dc43cfac4
DTSTAMP:20260421T080942Z
SUMMARY:Circus Knie 2026
DESCRIPTION:
LOCATION:Spelteriniplatz\, Spelteriniplatz\, 9000 St. Gallen
DTSTART;TZID=Europe/Zurich:20260430T193000
DTEND;TZID=Europe/Zurich:20260430T193000
ORGANIZER:Ticketcorner
END:VEVENT
END:VCALENDAR
