BEGIN:VCALENDAR
VERSION:2.0
PRODID:-//Sabre//Sabre VObject 4.5.8//EN
CALSCALE:GREGORIAN
BEGIN:VEVENT
UID:sabre-vobject-418042ae-3047-4c89-bcde-ecd861cab72f
DTSTAMP:20260421T080949Z
SUMMARY:Circus Knie 2026
DESCRIPTION:
LOCATION:Spelteriniplatz\, Spelteriniplatz\, 9000 St. Gallen
DTSTART;TZID=Europe/Zurich:20260426T180000
DTEND;TZID=Europe/Zurich:20260426T180000
ORGANIZER:Ticketcorner
END:VEVENT
END:VCALENDAR
