BEGIN:VCALENDAR
VERSION:2.0
PRODID:-//Sabre//Sabre VObject 4.5.8//EN
CALSCALE:GREGORIAN
BEGIN:VEVENT
UID:sabre-vobject-567aedf4-9f8f-40c8-b8bd-30d66183bd16
DTSTAMP:20260421T080903Z
SUMMARY:Circus Knie 2026
DESCRIPTION:
LOCATION:Spelteriniplatz\, Spelteriniplatz\, 9000 St. Gallen
DTSTART;TZID=Europe/Zurich:20260426T143000
DTEND;TZID=Europe/Zurich:20260426T143000
ORGANIZER:Ticketcorner
END:VEVENT
END:VCALENDAR
