BEGIN:VCALENDAR
VERSION:2.0
PRODID:-//Sabre//Sabre VObject 4.5.8//EN
CALSCALE:GREGORIAN
BEGIN:VEVENT
UID:sabre-vobject-f4341074-7f92-4c0a-be2f-8e058b31f673
DTSTAMP:20260421T080815Z
SUMMARY:Circus Knie 2026
DESCRIPTION:
LOCATION:Spelteriniplatz\, Spelteriniplatz\, 9000 St. Gallen
DTSTART;TZID=Europe/Zurich:20260426T103000
DTEND;TZID=Europe/Zurich:20260426T103000
ORGANIZER:Ticketcorner
END:VEVENT
END:VCALENDAR
