BEGIN:VCALENDAR
VERSION:2.0
PRODID:-//Sabre//Sabre VObject 4.5.8//EN
CALSCALE:GREGORIAN
BEGIN:VEVENT
UID:sabre-vobject-94e54ab5-4dfa-4082-b5bb-f53b3f19df53
DTSTAMP:20260421T080803Z
SUMMARY:Circus Knie 2026
DESCRIPTION:
LOCATION:Spelteriniplatz\, Spelteriniplatz\, 9000 St. Gallen
DTSTART;TZID=Europe/Zurich:20260425T200000
DTEND;TZID=Europe/Zurich:20260425T200000
ORGANIZER:Ticketcorner
END:VEVENT
END:VCALENDAR
