BEGIN:VCALENDAR
VERSION:2.0
PRODID:-//Sabre//Sabre VObject 4.5.8//EN
CALSCALE:GREGORIAN
BEGIN:VEVENT
UID:sabre-vobject-d6e14084-c0d4-4372-924a-f9fa4dd9acfd
DTSTAMP:20260425T005223Z
SUMMARY:Markt-Erlebnistag – der Frühling wird auf dem Wochenmarkt begrü
 sst
DESCRIPTION:Der 9. Markt-Erlebnistag steht im Zeichen des Frühlingserwache
 ns. Die Markthändler:innen des Wochenmarktes St. Gallen verwöhnen die Ma
 rktbesucher:innen mit frischen und hochwertigen Produkten.\nVom frischen G
 emüse\, über die Eier vom Hof von nebenan bis hin zum hochwertigen Olive
 nöl Extra Vergine finden die Besucher:innen alles was das Schlemmerherz b
 egehrt. Bei vielen Markthändlern können Produkte degustiert werden.\nFü
 r das leibliche Wohl ist ebenfalls gesort. Patrick von der BBQ-Factory St.
  Gallen kommt mit seinen Big Green Egg auf denen er knuspirge Bratwürste 
 brät und zu attraktiven Konditionen anbietet. Selbstverständlich können
  Grillinteressierte sich bei fachmännische beraten lassen.\nAuch OGI Coff
 ee ist wieder mit seinem Kaffeemobil auf Platz und bietet hochwertige Kaff
 eespezialitäten an.\nDie Mitglieder des Vereins Marktfrisch St. Gallen fr
 euen sich auf einen grossen Aufmarsch interessierter Besucher:innen.
LOCATION:Marktplatz\, Marktplatz 1\, 9000 St. Gallen
DTSTART;TZID=Europe/Zurich:20260425T080000
DTEND;TZID=Europe/Zurich:20260425T150000
ORGANIZER:Verein Marktfrisch St. Gallen
END:VEVENT
END:VCALENDAR
