BEGIN:VCALENDAR
VERSION:2.0
PRODID:-//Sabre//Sabre VObject 4.5.8//EN
CALSCALE:GREGORIAN
BEGIN:VEVENT
UID:sabre-vobject-393a7799-a199-4a95-a786-9a5cb5af0687
DTSTAMP:20260420T130334Z
SUMMARY:Milonga Cuartelito
DESCRIPTION:einfach. schön. familiär\nFür den Tanzabend wurde die Verkle
 inerungsform Cuartelito gewählt – also «kleine Kaserne»\, «Kaserneli
 » oder «Quartierchen». In diesem Sinne findet das Tanzen in einer famil
 iären Atmosphäre im offenen Bewegungsraum zu traditionellen und teilweis
 e neueren Tango-Orchestern statt. Die gemeinsame Zeit steht im Mittelpunkt
 .\nDJ: mal Patrick mal Claudia\nStallungen Süd 4B\\n\\nQuelle:\\nthurgauk
 ultur.ch - das Kulturportal für den Thurgau\, mit Terminen\, Themen &amp\
 ; Menschen\, die zu reden geben.
LOCATION:Stadtkaserne Frauenfeld\, Bahnhofplatz 78\, 8500 Frauenfeld
DTSTART;TZID=Europe/Zurich:20260623T190000
DTEND;TZID=Europe/Zurich:20260623T235900
ORGANIZER:Milonga Cuartelito
END:VEVENT
END:VCALENDAR
