BEGIN:VCALENDAR
VERSION:2.0
PRODID:-//Sabre//Sabre VObject 4.5.8//EN
CALSCALE:GREGORIAN
BEGIN:VEVENT
UID:sabre-vobject-ee7c1cf7-8ffa-41fa-ae6a-3ba51c76f1e4
DTSTAMP:20260420T130427Z
SUMMARY:Milonga Cuartelito
DESCRIPTION:einfach. schön. familiär\nFür den Tanzabend wurde die Verkle
 inerungsform Cuartelito gewählt – also «kleine Kaserne»\, «Kaserneli
 » oder «Quartierchen». In diesem Sinne findet das Tanzen in einer famil
 iären Atmosphäre im offenen Bewegungsraum zu traditionellen und teilweis
 e neueren Tango-Orchestern statt. Die gemeinsame Zeit steht im Mittelpunkt
 .\nDJ: mal Patrick mal Claudia\nStallungen Süd 4B\\n\\nQuelle:\\nthurgauk
 ultur.ch - das Kulturportal für den Thurgau\, mit Terminen\, Themen &amp\
 ; Menschen\, die zu reden geben.
LOCATION:Stadtkaserne Frauenfeld\, Bahnhofplatz 78\, 8500 Frauenfeld
DTSTART;TZID=Europe/Zurich:20260421T190000
DTEND;TZID=Europe/Zurich:20260421T230000
ORGANIZER:Milonga Cuartelito
END:VEVENT
END:VCALENDAR
