BEGIN:VCALENDAR
VERSION:2.0
PRODID:-//Sabre//Sabre VObject 4.5.8//EN
CALSCALE:GREGORIAN
BEGIN:VEVENT
UID:sabre-vobject-d3087f26-f4b2-4335-b9e3-930429e87213
DTSTAMP:20260422T090152Z
SUMMARY:Laufveloparcours für Kids
DESCRIPTION:Kids können bei uns spielerisch das Mountainbiken mit Laufräd
 ern lernen. Ein Parcours ermöglicht erste Erfahrungen mit Neigungen und H
 indernissen. Auch kann eine Runde ohne Hindernisse gedreht werden - für a
 lle so herausfordernd\, wie es für sie passt und Freude macht. Helme und 
 Räder stehen bereit - mit dem Wetter angepasster Kleidung sowie aufmerksa
 men Eltern oder Begleitpersonen steht dem Spass nichts mehr im Weg. Wir fr
 euen uns auf neugierige Besucher:innen.
LOCATION:Vorplatz Transa-Filiale\, Multergasse 47\, 9000 St. Gallen
DTSTART;TZID=Europe/Zurich:20260501T100000
DTEND;TZID=Europe/Zurich:20260501T163000
ORGANIZER:Transa Backpacking AG
END:VEVENT
END:VCALENDAR
