BEGIN:VCALENDAR
VERSION:2.0
PRODID:-//Sabre//Sabre VObject 4.5.8//EN
CALSCALE:GREGORIAN
BEGIN:VEVENT
UID:sabre-vobject-46147e60-03ad-415b-a0cc-dcd6f8089a85
DTSTAMP:20260420T055915Z
SUMMARY:Buchvernissage - ATLAS Revolving Histories
DESCRIPTION:Im Frühjahr 2026 erscheint im Vexer Verlag St. Gallen/Berlin n
 ach dem "Lesebuch" nun der zweite Band von «Revolving Histories»\, der A
 TLAS zu translokaler Performance Kunst in der Schweiz.\nDer Band versammel
 t 14 Texte\, die aus intensiven Recherchen und Feldforschungen in den stä
 dtischen Zentren und ländlichen Regionen hervorgegangen sind – von Base
 l bis ins Val Müstair und von der Ostschweiz bis zum Genfersee.\nAutorinn
 en\, Künstlerinnen und Kuratorinnen zeichnen «Performance-Landschaften»
  nach\, erzählen von Szenen\, Räumen des Geschehens\, Festivals und Akte
 urinnen\, die die Schweizer Performance Kunst seit den 1960er-Jahren bis i
 n die Gegenwart prägen.\nUmfangreiche Bildstrecken mit über 300 Fotograf
 ien aus dem «Katalog für Sammlungen Performance Kunst Schweiz» sowie ei
 n Glossar zum Wortschatz der Performancepraxis machen den Atlas zu einem d
 ichten Nachschlagwerk für alle\, die über Performance Kunst mehr erfahre
 n und neues entdecken möchten.
LOCATION:Kunst Halle Sankt Gallen\, Davidstrasse 40\, 9000 St. Gallen
DTSTART;TZID=Europe/Zurich:20260421T180000
DTEND;TZID=Europe/Zurich:20260421T180000
ORGANIZER:Kunst Halle Sankt Gallen
END:VEVENT
END:VCALENDAR
