BEGIN:VCALENDAR
VERSION:2.0
PRODID:-//Sabre//Sabre VObject 4.5.8//EN
CALSCALE:GREGORIAN
BEGIN:VEVENT
UID:sabre-vobject-3d8ebca2-3062-4af1-b238-d30906094afb
DTSTAMP:20260420T142205Z
SUMMARY:Fokus Ausstellung 5: Die Produzentinnen
DESCRIPTION:Die Ausstellung der Stiftsbibliothek "Frauen – Weibliche Lebe
 nswelten im Mittelalter" aus erster Hand mit Dr. Ruth Wiederkehr\, Wissens
 chaftliche Mitarbeiterin\, im Barocksaal der Stiftsbibliothek (Eintritt mi
 t gültigem Ticket).
LOCATION:Barocksaal der Stiftsbibliothek\, Klosterhof 6d\, 9000 St.Gallen
DTSTART;TZID=Europe/Zurich:20260914T173000
DTEND;TZID=Europe/Zurich:20260914T173000
ORGANIZER:Stiftsbezirk St.Gallen
END:VEVENT
END:VCALENDAR
